BEGIN:VCALENDAR
VERSION:2.0
PRODID:-//Knoxville Public Library - ECPv6.8.3//NONSGML v1.0//EN
CALSCALE:GREGORIAN
METHOD:PUBLISH
X-WR-CALNAME:Knoxville Public Library
X-ORIGINAL-URL:https://knoxvillepubliclibrary.com
X-WR-CALDESC:Events for Knoxville Public Library
REFRESH-INTERVAL;VALUE=DURATION:PT1H
X-Robots-Tag:noindex
X-PUBLISHED-TTL:PT1H
BEGIN:VTIMEZONE
TZID:America/New_York
BEGIN:DAYLIGHT
TZOFFSETFROM:-0500
TZOFFSETTO:-0400
TZNAME:EDT
DTSTART:20240310T070000
END:DAYLIGHT
BEGIN:STANDARD
TZOFFSETFROM:-0400
TZOFFSETTO:-0500
TZNAME:EST
DTSTART:20241103T060000
END:STANDARD
BEGIN:DAYLIGHT
TZOFFSETFROM:-0500
TZOFFSETTO:-0400
TZNAME:EDT
DTSTART:20250309T070000
END:DAYLIGHT
BEGIN:STANDARD
TZOFFSETFROM:-0400
TZOFFSETTO:-0500
TZNAME:EST
DTSTART:20251102T060000
END:STANDARD
BEGIN:DAYLIGHT
TZOFFSETFROM:-0500
TZOFFSETTO:-0400
TZNAME:EDT
DTSTART:20260308T070000
END:DAYLIGHT
BEGIN:STANDARD
TZOFFSETFROM:-0400
TZOFFSETTO:-0500
TZNAME:EST
DTSTART:20261101T060000
END:STANDARD
END:VTIMEZONE
BEGIN:VEVENT
DTSTART;TZID=America/New_York:20260311T100000
DTEND;TZID=America/New_York:20260311T110000
DTSTAMP:20260426T001146
CREATED:20260221T094743Z
LAST-MODIFIED:20260307T102641Z
UID:10000516-1773223200-1773226800@knoxvillepubliclibrary.com
SUMMARY:Preschool Story Time
DESCRIPTION:Story time for littles!
URL:https://knoxvillepubliclibrary.com/event/preschool-story-time-18/
LOCATION:Knoxville Public Library\, 112 E Main St\, Knoxville\, PA\, United States
GEO:41.956983;-77.439091
X-APPLE-STRUCTURED-LOCATION;VALUE=URI;X-ADDRESS=Knoxville Public Library 112 E Main St Knoxville PA United States;X-APPLE-RADIUS=500;X-TITLE=112 E Main St:geo:-77.439091,41.956983
END:VEVENT
BEGIN:VEVENT
DTSTART;TZID=America/New_York:20260304T100000
DTEND;TZID=America/New_York:20260304T110000
DTSTAMP:20260426T001146
CREATED:20260221T094743Z
LAST-MODIFIED:20260228T102704Z
UID:10000515-1772618400-1772622000@knoxvillepubliclibrary.com
SUMMARY:Preschool Story Time
DESCRIPTION:Story time for littles!
URL:https://knoxvillepubliclibrary.com/event/preschool-story-time-17/
LOCATION:Knoxville Public Library\, 112 E Main St\, Knoxville\, PA\, United States
GEO:41.956983;-77.439091
X-APPLE-STRUCTURED-LOCATION;VALUE=URI;X-ADDRESS=Knoxville Public Library 112 E Main St Knoxville PA United States;X-APPLE-RADIUS=500;X-TITLE=112 E Main St:geo:-77.439091,41.956983
END:VEVENT
BEGIN:VEVENT
DTSTART;TZID=America/New_York:20260225T100000
DTEND;TZID=America/New_York:20260225T110000
DTSTAMP:20260426T001146
CREATED:20260221T094743Z
LAST-MODIFIED:20260221T094744Z
UID:10000514-1772013600-1772017200@knoxvillepubliclibrary.com
SUMMARY:Preschool Story Time
DESCRIPTION:Story time for littles!
URL:https://knoxvillepubliclibrary.com/event/preschool-story-time-16/
LOCATION:Knoxville Public Library\, 112 E Main St\, Knoxville\, PA\, United States
GEO:41.956983;-77.439091
X-APPLE-STRUCTURED-LOCATION;VALUE=URI;X-ADDRESS=Knoxville Public Library 112 E Main St Knoxville PA United States;X-APPLE-RADIUS=500;X-TITLE=112 E Main St:geo:-77.439091,41.956983
END:VEVENT
BEGIN:VEVENT
DTSTART;TZID=America/New_York:20240828T100000
DTEND;TZID=America/New_York:20240828T110000
DTSTAMP:20260426T001146
CREATED:20240522T015900Z
LAST-MODIFIED:20240828T024420Z
UID:10000284-1724839200-1724842800@knoxvillepubliclibrary.com
SUMMARY:Preschool Story Time
DESCRIPTION:Story time for littles!
URL:https://knoxvillepubliclibrary.com/event/preschool-story-time-15/
LOCATION:Knoxville Public Library\, 112 E Main St\, Knoxville\, PA\, United States
GEO:41.956983;-77.439091
X-APPLE-STRUCTURED-LOCATION;VALUE=URI;X-ADDRESS=Knoxville Public Library 112 E Main St Knoxville PA United States;X-APPLE-RADIUS=500;X-TITLE=112 E Main St:geo:-77.439091,41.956983
END:VEVENT
BEGIN:VEVENT
DTSTART;TZID=America/New_York:20240821T100000
DTEND;TZID=America/New_York:20240821T110000
DTSTAMP:20260426T001146
CREATED:20240522T015859Z
LAST-MODIFIED:20240821T024608Z
UID:10000282-1724234400-1724238000@knoxvillepubliclibrary.com
SUMMARY:Preschool Story Time
DESCRIPTION:Story time for littles!
URL:https://knoxvillepubliclibrary.com/event/preschool-story-time-14/
LOCATION:Knoxville Public Library\, 112 E Main St\, Knoxville\, PA\, United States
GEO:41.956983;-77.439091
X-APPLE-STRUCTURED-LOCATION;VALUE=URI;X-ADDRESS=Knoxville Public Library 112 E Main St Knoxville PA United States;X-APPLE-RADIUS=500;X-TITLE=112 E Main St:geo:-77.439091,41.956983
END:VEVENT
BEGIN:VEVENT
DTSTART;TZID=America/New_York:20240814T100000
DTEND;TZID=America/New_York:20240814T110000
DTSTAMP:20260426T001146
CREATED:20240522T015858Z
LAST-MODIFIED:20240814T024248Z
UID:10000281-1723629600-1723633200@knoxvillepubliclibrary.com
SUMMARY:Preschool Story Time
DESCRIPTION:Story time for littles!
URL:https://knoxvillepubliclibrary.com/event/preschool-story-time-13/
LOCATION:Knoxville Public Library\, 112 E Main St\, Knoxville\, PA\, United States
GEO:41.956983;-77.439091
X-APPLE-STRUCTURED-LOCATION;VALUE=URI;X-ADDRESS=Knoxville Public Library 112 E Main St Knoxville PA United States;X-APPLE-RADIUS=500;X-TITLE=112 E Main St:geo:-77.439091,41.956983
END:VEVENT
BEGIN:VEVENT
DTSTART;TZID=America/New_York:20240807T100000
DTEND;TZID=America/New_York:20240807T110000
DTSTAMP:20260426T001146
CREATED:20240522T015858Z
LAST-MODIFIED:20240807T024137Z
UID:10000280-1723024800-1723028400@knoxvillepubliclibrary.com
SUMMARY:Preschool Story Time
DESCRIPTION:Story time for littles!
URL:https://knoxvillepubliclibrary.com/event/preschool-story-time-12/
LOCATION:Knoxville Public Library\, 112 E Main St\, Knoxville\, PA\, United States
GEO:41.956983;-77.439091
X-APPLE-STRUCTURED-LOCATION;VALUE=URI;X-ADDRESS=Knoxville Public Library 112 E Main St Knoxville PA United States;X-APPLE-RADIUS=500;X-TITLE=112 E Main St:geo:-77.439091,41.956983
END:VEVENT
BEGIN:VEVENT
DTSTART;TZID=America/New_York:20240731T100000
DTEND;TZID=America/New_York:20240731T110000
DTSTAMP:20260426T001146
CREATED:20240522T015858Z
LAST-MODIFIED:20240731T023215Z
UID:10000279-1722420000-1722423600@knoxvillepubliclibrary.com
SUMMARY:Preschool Story Time
DESCRIPTION:Story time for littles!
URL:https://knoxvillepubliclibrary.com/event/preschool-story-time-11/
LOCATION:Knoxville Public Library\, 112 E Main St\, Knoxville\, PA\, United States
GEO:41.956983;-77.439091
X-APPLE-STRUCTURED-LOCATION;VALUE=URI;X-ADDRESS=Knoxville Public Library 112 E Main St Knoxville PA United States;X-APPLE-RADIUS=500;X-TITLE=112 E Main St:geo:-77.439091,41.956983
END:VEVENT
BEGIN:VEVENT
DTSTART;TZID=America/New_York:20240724T100000
DTEND;TZID=America/New_York:20240724T110000
DTSTAMP:20260426T001146
CREATED:20240522T015857Z
LAST-MODIFIED:20240724T022748Z
UID:10000278-1721815200-1721818800@knoxvillepubliclibrary.com
SUMMARY:Preschool Story Time
DESCRIPTION:Story time for littles!
URL:https://knoxvillepubliclibrary.com/event/preschool-story-time-10/
LOCATION:Knoxville Public Library\, 112 E Main St\, Knoxville\, PA\, United States
GEO:41.956983;-77.439091
X-APPLE-STRUCTURED-LOCATION;VALUE=URI;X-ADDRESS=Knoxville Public Library 112 E Main St Knoxville PA United States;X-APPLE-RADIUS=500;X-TITLE=112 E Main St:geo:-77.439091,41.956983
END:VEVENT
BEGIN:VEVENT
DTSTART;TZID=America/New_York:20240717T100000
DTEND;TZID=America/New_York:20240717T110000
DTSTAMP:20260426T001146
CREATED:20240522T015855Z
LAST-MODIFIED:20240717T022744Z
UID:10000276-1721210400-1721214000@knoxvillepubliclibrary.com
SUMMARY:Preschool Story Time
DESCRIPTION:Story time for littles!
URL:https://knoxvillepubliclibrary.com/event/preschool-story-time-9/
LOCATION:Knoxville Public Library\, 112 E Main St\, Knoxville\, PA\, United States
GEO:41.956983;-77.439091
X-APPLE-STRUCTURED-LOCATION;VALUE=URI;X-ADDRESS=Knoxville Public Library 112 E Main St Knoxville PA United States;X-APPLE-RADIUS=500;X-TITLE=112 E Main St:geo:-77.439091,41.956983
END:VEVENT
BEGIN:VEVENT
DTSTART;TZID=America/New_York:20240710T100000
DTEND;TZID=America/New_York:20240710T110000
DTSTAMP:20260426T001146
CREATED:20240522T015842Z
LAST-MODIFIED:20240710T023009Z
UID:10000275-1720605600-1720609200@knoxvillepubliclibrary.com
SUMMARY:Preschool Story Time
DESCRIPTION:Story time for littles!
URL:https://knoxvillepubliclibrary.com/event/preschool-story-time-8/
LOCATION:Knoxville Public Library\, 112 E Main St\, Knoxville\, PA\, United States
GEO:41.956983;-77.439091
X-APPLE-STRUCTURED-LOCATION;VALUE=URI;X-ADDRESS=Knoxville Public Library 112 E Main St Knoxville PA United States;X-APPLE-RADIUS=500;X-TITLE=112 E Main St:geo:-77.439091,41.956983
END:VEVENT
BEGIN:VEVENT
DTSTART;TZID=America/New_York:20240703T100000
DTEND;TZID=America/New_York:20240703T110000
DTSTAMP:20260426T001146
CREATED:20240522T015841Z
LAST-MODIFIED:20240703T022635Z
UID:10000274-1720000800-1720004400@knoxvillepubliclibrary.com
SUMMARY:Preschool Story Time
DESCRIPTION:Story time for littles!
URL:https://knoxvillepubliclibrary.com/event/preschool-story-time-7/
LOCATION:Knoxville Public Library\, 112 E Main St\, Knoxville\, PA\, United States
GEO:41.956983;-77.439091
X-APPLE-STRUCTURED-LOCATION;VALUE=URI;X-ADDRESS=Knoxville Public Library 112 E Main St Knoxville PA United States;X-APPLE-RADIUS=500;X-TITLE=112 E Main St:geo:-77.439091,41.956983
END:VEVENT
BEGIN:VEVENT
DTSTART;TZID=America/New_York:20240626T100000
DTEND;TZID=America/New_York:20240626T110000
DTSTAMP:20260426T001146
CREATED:20240522T015841Z
LAST-MODIFIED:20240626T022628Z
UID:10000273-1719396000-1719399600@knoxvillepubliclibrary.com
SUMMARY:Preschool Story Time
DESCRIPTION:Story time for littles!
URL:https://knoxvillepubliclibrary.com/event/preschool-story-time-6/
LOCATION:Knoxville Public Library\, 112 E Main St\, Knoxville\, PA\, United States
GEO:41.956983;-77.439091
X-APPLE-STRUCTURED-LOCATION;VALUE=URI;X-ADDRESS=Knoxville Public Library 112 E Main St Knoxville PA United States;X-APPLE-RADIUS=500;X-TITLE=112 E Main St:geo:-77.439091,41.956983
END:VEVENT
BEGIN:VEVENT
DTSTART;TZID=America/New_York:20240619T100000
DTEND;TZID=America/New_York:20240619T110000
DTSTAMP:20260426T001146
CREATED:20240522T015840Z
LAST-MODIFIED:20240619T021515Z
UID:10000271-1718791200-1718794800@knoxvillepubliclibrary.com
SUMMARY:Preschool Story Time
DESCRIPTION:Story time for littles!
URL:https://knoxvillepubliclibrary.com/event/preschool-story-time-5/
LOCATION:Knoxville Public Library\, 112 E Main St\, Knoxville\, PA\, United States
GEO:41.956983;-77.439091
X-APPLE-STRUCTURED-LOCATION;VALUE=URI;X-ADDRESS=Knoxville Public Library 112 E Main St Knoxville PA United States;X-APPLE-RADIUS=500;X-TITLE=112 E Main St:geo:-77.439091,41.956983
END:VEVENT
END:VCALENDAR